BEGIN:VCALENDAR
VERSION:2.0
PRODID:-//lovelifepoetry.com - ECPv6.15.20//NONSGML v1.0//EN
CALSCALE:GREGORIAN
METHOD:PUBLISH
X-WR-CALNAME:lovelifepoetry.com
X-ORIGINAL-URL:https://lovelifepoetry.com
X-WR-CALDESC:Events for lovelifepoetry.com
REFRESH-INTERVAL;VALUE=DURATION:PT1H
X-Robots-Tag:noindex
X-PUBLISHED-TTL:PT1H
BEGIN:VTIMEZONE
TZID:Asia/Kolkata
BEGIN:STANDARD
TZOFFSETFROM:+0530
TZOFFSETTO:+0530
TZNAME:IST
DTSTART:20210101T000000
END:STANDARD
END:VTIMEZONE
BEGIN:VEVENT
DTSTART;TZID=Asia/Kolkata:20230518T200000
DTEND;TZID=Asia/Kolkata:20230518T200000
DTSTAMP:20260419T144544
CREATED:20230223T062053Z
LAST-MODIFIED:20240125T175532Z
UID:784-1684440000-1684440000@lovelifepoetry.com
SUMMARY:Online session every Friday IST 8.30 pm to 10.00 pm
DESCRIPTION:Drsya means to look within\n\n\nBrief about this group activity \nSince school and college days\, all of us spent so much time thinking about what to do with our lives. And from childhood to youth many dreams change\, with our changing desires and self-assessment. \nBut once we start working we just keep flowing in one direction. And sometimes we forget what we were originally looking for. \nWith the expansion of family and work/business\, this idea of our dreams is often lost. And to earn and hold more than others in our circle of influence - that alone becomes our drive. \nIn this condition\, there’s a possibility of losing touch with natural unbound happiness or peace. If that’s happening to you - then do give it a good thought. \nAlso\, amidst this is the whole flux of emotions/ desires on one side and the moral conditioning/societal norms/religious guidelines on the other. Do you feel confused about the conflict between desires and these frameworks? If that’s happening to you - then do give it a good thought. \nWhat am I looking for? \nAnd how will I get it? \nWith these questions\, we want to reflect on our own lives and once again refresh our purpose and path. \n					\n					 \n				\n			\n				\n				\n				\n				\n				\n			\n				\n				\n				\n				\n				\n				\n					What to expect?\nA collective inquiry into our lives including purpose/goals/dreams means of achieving and challenges therein and finally the aid of shastra or any other spiritual path. \nThe discussion may be facilitated by some\, but the direction will totally depend on the group alignment. And while we walk together as a group\, the inquiry is very personal and individual. \nOpenness and honesty in the search\, are great allies. One is free to set their own boundaries. \nBetween two discussions one must observe\, experiment with the ideas and validate their own perceptions. This will make way for truth to emerge and for real changes to come to our lives. \nSo there’s going to be: \n1. A non-judgemental space to share and be completely open \n2. Careful sensitive and equally vulnerable facilitators to hold hands \n3. Co-exploration with courage\, to listen to objective counter-views \n4. Experiential tasks to validate your own perception of truth \n5. Deep dive into emotions and their roots \n6. An insight into what we could “do” to manage these and to move in direction of our purpose \n7. An exploration of purpose\, success\, and happiness \n8. A space to ask questions and be questioned \n9. Also a space to seek one-to-one coaching\, if need be\, for a more immersive experience \n					\n					 \n				\n			\n			\n				\n				\n				\n				\n			\n				\n				\n				\n				\n				\n				\n				\n				\n				\n				\n				Do you wish to join us on this journey?\nRegister on the form below.\n\n			\n			\n				\n				\n				\n				\n				\n				\n				\n				\n					\n						\n				\n				\n				\n				\n				Name\n				\n			 \n				\n				\n				\n				\n				Email Address\n				\n			 \n				\n				\n				\n				\n				Phone\n				\n			 \n				\n				\n				\n				\n				City\n				\n			 \n				\n				\n				\n				\n				Note\n				\n			 \n						\n						\n							\n			\n				\n					6 + 3 = \n				 \n			\n							Submit
URL:https://lovelifepoetry.com/event/drsya-ongoing-online-session-every-friday/
END:VEVENT
BEGIN:VEVENT
DTSTART;TZID=Asia/Kolkata:20230430T160000
DTEND;TZID=Asia/Kolkata:20230430T173000
DTSTAMP:20260419T144544
CREATED:20230426T141052Z
LAST-MODIFIED:20230428T080034Z
UID:883-1682870400-1682875800@lovelifepoetry.com
SUMMARY:Gupshup with LoLiPo
DESCRIPTION:Gushup with #lolipo on Anger\, Relationships\, and coping mechanism\nPeople around should be a source of support – sometimes they are the reason we feel let down. It can get hurtful\, and all the drama\, hate\, and negativity generate anger (in its various forms)… \nWant to co-explore the reasons and ways of coping?\nJoin us in “Gupshup with LoLiPo”…
URL:https://lovelifepoetry.com/event/gupshup-with-lolipo/
END:VEVENT
BEGIN:VEVENT
DTSTART;TZID=Asia/Kolkata:20221030T110000
DTEND;TZID=Asia/Kolkata:20221030T123000
DTSTAMP:20260419T144544
CREATED:20221027T061433Z
LAST-MODIFIED:20221106T102653Z
UID:384-1667127600-1667133000@lovelifepoetry.com
SUMMARY:Pain & Anger @ LoLiPo Chaupal
DESCRIPTION:Tons of gratitude to all who joined us for a beautiful chat around the “cycle of pain and anger”.\nWe’ve received some heart-warming messages and feedback and it is very encouraging.\nIt is this Collective Co-exploration that leads to self-awareness and opens many doors for all of us…We wish you all growth in your own journeys
URL:https://lovelifepoetry.com/event/30th-oct-gupshup-with-lolilpo/
END:VEVENT
BEGIN:VEVENT
DTSTART;TZID=Asia/Kolkata:20220906T110000
DTEND;TZID=Asia/Kolkata:20220906T123000
DTSTAMP:20260419T144544
CREATED:20221025T152612Z
LAST-MODIFIED:20221106T102113Z
UID:355-1662462000-1662467400@lovelifepoetry.com
SUMMARY:One sided love @ LoLiPo Chaupal
DESCRIPTION:Gratitude to each one who joined We want to create a #nonjudgementalspace #openconversations where we can all bring out #reallife #emotions and experiences\, and then blend them with learnings from #scriptures and #gurus to observe and validate stuff around us with fresh views… And to go back a little more awake\, a little more aware!!
URL:https://lovelifepoetry.com/event/one-sided-love/
END:VEVENT
END:VCALENDAR